Workbook

Sheet Stat functii
A1: STAT DE FUNCŢII
A2: Anul universitar 2025 - 2026
A4: Nr. | B4: Denumirea postului | C4: Numele şi prenumele / Vacant | D4: Titlul ştiinţific (Dr. / Drd.) | E4: Vechime în învăţământ sup. | F4: Contract durată nedeterminată (DN) / durată determinată (DD) | G4: Denumire disciplină | H4: Facultatea | I4: Ciclul de studii (L/M) | J4: Limba predare (R/E/F/G) | K4: Anul de studii | L4: Seria | M4: Nr. grupe | N4: Nr. subgrupe | O4: Activităţi didactice
O5: Sem. 1 | Q5: Sem. 2 | S5: Medie ore did. | T5: Total ore
O6: Curs | P6: Apl. | Q6: Curs | R6: Apl.
O7: ore_f săpt. | P7: ore_f săpt. | Q7: ore_f săpt. | R7: ore_f săpt. | S7: ore_c săpt. | T7: ore/an
T11: =S11*28 -> 0
T12: =T14-T13-T11 -> 1376
T13: 344
T14: 1720
A15: 9 | B15: Conf. | C15: Zgarian Roxana | D15: Dr. | E15: 23 | F15: DN | G15: Chimie | H15: FIIR | I15: L | J15: R | K15: I | L15: C+EA | M15: 5 | N15: 10 | O15: 2 | P15: 1 | S15: =((O15+Q15)*IF($J15="R",2,IF($J15="E",2.5,IF($J15="F",2.5,IF($J15="G",2.5,0))))+(P15+R15)*IF($J15="R",1,IF($J15="E",1.25,IF($J15="F",1.25,IF($J15="G",1.25,0)))))/2 -> 2.5
G16: Chimie | H16: TR | I16: L | J16: R | K16: I | L16: E | M16: 4 | N16: 8 | P16: 2 | S16: =((O16+Q16)*IF($J16="R",2,IF($J16="E",2.5,IF($J16="F",2.5,IF($J16="G",2.5,0))))+(P16+R16)*IF($J16="R",1,IF($J16="E",1.25,IF($J16="F",1.25,IF($J16="G",1.25,0)))))/2 -> 1
G17: Chimie | H17: IM | I17: L | J17: R | K17: I | L17: B+C | M17: 5 | N17: 10 | O17: 2 | P17: 7 | S17: =((O17+Q17)*IF($J17="R",2,IF($J17="E",2.5,IF($J17="F",2.5,IF($J17="G",2.5,0))))+(P17+R17)*IF($J17="R",1,IF($J17="E",1.25,IF($J17="F",1.25,IF($J17="G",1.25,0)))))/2 -> 5.5
G18: Total | O18: =SUM(O15:O17) -> 4 | P18: =SUM(P15:P17) -> 10 | Q18: =SUM(Q15:Q17) -> 0 | R18: =SUM(R15:R17) -> 0 | S18: =SUM(S15:S17) -> 9 | T18: =S18*28 -> 252
G19: Alte activităţi în norma didactică | T19: =T21-T20-T18 -> 1124
G20: Norma de cercetare | T20: 344
G21: TOTAL | T21: 1720
A22: 12 | B22: Conf. | C22: Prodana Mariana | D22: Dr. | E22: 17 | F22: DN | G22: Chimie | H22: FIIR | I22: L | J22: R | K22: I | L22: BA+ BB+ BC | M22: 5 | N22: 10 | O22: 2 | S22: =((O22+Q22)*IF($J22="R",2,IF($J22="E",2.5,IF($J22="F",2.5,IF($J22="G",2.5,0))))+(P22+R22)*IF($J22="R",1,IF($J22="E",1.25,IF($J22="F",1.25,IF($J22="G",1.25,0)))))/2 -> 2
G23: Chimie | H23: FIM | I23: L | J23: R | K23: I | P23: 10 | S23: =((O23+Q23)*IF($J23="R",2,IF($J23="E",2.5,IF($J23="F",2.5,IF($J23="G",2.5,0))))+(P23+R23)*IF($J23="R",1,IF($J23="E",1.25,IF($J23="F",1.25,IF($J23="G",1.25,0)))))/2 -> 5
G24: Chimie | H24: FIIR | I24: L | J24: R | K24: I | L24: AA+ AD | M24: 5 | N24: 9 | O24: 2 | S24: =((O24+Q24)*IF($J24="R",2,IF($J24="E",2.5,IF($J24="F",2.5,IF($J24="G",2.5,0))))+(P24+R24)*IF($J24="R",1,IF($J24="E",1.25,IF($J24="F",1.25,IF($J24="G",1.25,0)))))/2 -> 2
G25: Total | O25: =SUM(O22:O24) -> 4 | P25: =SUM(P22:P24) -> 10 | Q25: =SUM(Q22:Q24) -> 0 | R25: =SUM(R22:R24) -> 0 | S25: =SUM(S22:S24) -> 9 | T25: =S25*28 -> 252
G26: Alte activităţi în norma didactică | T26: =T28-T27-T25 -> 1124
G27: Norma de cercetare | T27: 344
G28: TOTAL | T28: 1720
A29: 21 | B29: Asist. | C29: Vacant (la PO: ZGARIAN Roxana Gabriela) | D29: Dr. | F29: DN | G29: Chimie | H29: ETTI | I29: L | J29: R | K29: I | P29: 8 | S29: =((O29+Q29)*IF($J29="R",2,IF($J29="E",2.5,IF($J29="F",2.5,IF($J29="G",2.5,0))))+(P29+R29)*IF($J29="R",1,IF($J29="E",1.25,IF($J29="F",1.25,IF($J29="G",1.25,0)))))/2 -> 4
G30: Chimie | H30: FIIR | I30: L | J30: R | K30: I | P30: 10 | S30: =((O30+Q30)*IF($J30="R",2,IF($J30="E",2.5,IF($J30="F",2.5,IF($J30="G",2.5,0))))+(P30+R30)*IF($J30="R",1,IF($J30="E",1.25,IF($J30="F",1.25,IF($J30="G",1.25,0)))))/2 -> 5
G31: Chimie | H31: IE | I31: L | J31: R | K31: I | P31: 5 | S31: =((O31+Q31)*IF($J31="R",2,IF($J31="E",2.5,IF($J31="F",2.5,IF($J31="G",2.5,0))))+(P31+R31)*IF($J31="R",1,IF($J31="E",1.25,IF($J31="F",1.25,IF($J31="G",1.25,0)))))/2 -> 2.5
G32: Chimie | H32: ENG | I32: L | J32: R | K32: I | P32: 5 | S32: =((O32+Q32)*IF($J32="R",2,IF($J32="E",2.5,IF($J32="F",2.5,IF($J32="G",2.5,0))))+(P32+R32)*IF($J32="R",1,IF($J32="E",1.25,IF($J32="F",1.25,IF($J32="G",1.25,0)))))/2 -> 2.5
G33: Chimie | H33: FIM | I33: L | J33: R | K33: I | P33: 8 | S33: =((O33+Q33)*IF($J33="R",2,IF($J33="E",2.5,IF($J33="F",2.5,IF($J33="G",2.5,0))))+(P33+R33)*IF($J33="R",1,IF($J33="E",1.25,IF($J33="F",1.25,IF($J33="G",1.25,0)))))/2 -> 4
G34: Total | O34: =SUM(O29:O33) -> 0 | P34: =SUM(P29:P33) -> 36 | Q34: =SUM(Q29:Q33) -> 0 | R34: =SUM(R29:R33) -> 0 | S34: =SUM(S29:S33) -> 18 | T34: =S34*28 -> 504
G35: Alte activităţi în norma didactică | T35: =T37-T36-T34 -> 1044
G36: Norma de cercetare | T36: 172
G37: TOTAL | T37: 1720

Sheet Sheet1
D4: FAC | E4: Curs | F4: Nota de comanda | G4: Diferente | I4: Curs-R | J4: Lab-R | K4: Curs-Engl/FR | L4: Lab-Engl/FR
D5: IE | E5: =('Stat functii'!#REF!+'Stat functii'!#REF!+'Stat functii'!#REF!+'Stat functii'!S40+'Stat functii'!S31+'Stat functii'!#REF!+'Stat functii'!#REF!)*28 -> #REF! | F5: 532 | G5: =F5-E5 -> #REF! | I5: 2 | J5: 22 | K5: 1 | L5: 4
D6: ENG | E6: =('Stat functii'!#REF!+'Stat functii'!#REF!+'Stat functii'!#REF!+'Stat functii'!S45+'Stat functii'!#REF!+'Stat functii'!S32)*28 -> #REF! | F6: 504 | G6: =F6-E6 -> #REF! | I6: 3 | J6: 24
D7: AUTOMATICA | E7: =('Stat functii'!#REF!+'Stat functii'!#REF!+'Stat functii'!#REF!+'Stat functii'!#REF!+'Stat functii'!S42)*28 -> #REF! | F7: 504 | G7: =F7-E7 -> #REF! | I7: 3 | J7: 24
D8: ETTI | E8: =('Stat functii'!#REF!+'Stat functii'!#REF!+'Stat functii'!#REF!+'Stat functii'!#REF!+'Stat functii'!#REF!+'Stat functii'!#REF!+'Stat functii'!S29+'Stat functii'!S38+'Stat functii'!#REF!+'Stat functii'!#REF!+'Stat functii'!#REF!+'Stat functii'!#REF!+'Stat functii'!#REF!+'Stat functii'!#REF!)*28 -> #REF! | F8: 1172.5 | G8: =F8-E8 -> #REF! | I8: 6 | J8: 49 | K8: 1 | L8: 8
D9: MECANICA | E9: =('Stat functii'!S8+'Stat functii'!S17+'Stat functii'!#REF!+'Stat functii'!S41+'Stat functii'!#REF!)*28 -> #REF! | F9: 476 | G9: =F9-E9 -> #REF! | I9: 3(2h)+1(1h) | J9: 28
D10: IMST | E10: =('Stat functii'!S10+'Stat functii'!#REF!+'Stat functii'!S15+'Stat functii'!S22+'Stat functii'!S24+'Stat functii'!#REF!+'Stat functii'!#REF!+'Stat functii'!S44+'Stat functii'!S30+'Stat functii'!#REF!)*28 -> #REF! | F10: 882 | G10: =F10-E10 -> #REF! | I10: 4 | J10: 44 | K10: 1 | L10: 9
D11: ISB | E11: =('Stat functii'!#REF!+'Stat functii'!#REF!+'Stat functii'!#REF!)*28 -> #REF! | F11: 210 | G11: =F11-E11 -> #REF! | I11: 1 | J11: 12+3(senz)
D12: TRANSPORTURI | E12: =('Stat functii'!#REF!+'Stat functii'!S9+'Stat functii'!#REF!+'Stat functii'!#REF!+'Stat functii'!#REF!+'Stat functii'!#REF!+'Stat functii'!S16+'Stat functii'!#REF!)*28 -> #REF! | F12: 728 | G12: =F12-E12 -> #REF! | I12: 1(mast)+4 | J12: 2(mast)+39
D13: AERONAVE | E13: =('Stat functii'!#REF!+'Stat functii'!#REF!+'Stat functii'!#REF!+'Stat functii'!#REF!)*28 -> #REF! | F13: 308 | G13: =F13-E13 -> #REF! | I13: 2 | J13: 14
D14: FICBI | E14: =(('Stat functii'!#REF!)+('Stat functii'!#REF!))*28 -> #REF! | F14: 154 | G14: =F14-E14 -> #REF! | I14: 1 (senz) | J14: 1(senz)
D15: FILS | E15: =('Stat functii'!#REF!+'Stat functii'!#REF!+'Stat functii'!#REF!+'Stat functii'!#REF!+'Stat functii'!#REF!+'Stat functii'!#REF!+'Stat functii'!S46+'Stat functii'!#REF!+'Stat functii'!#REF!)*28 -> #REF! | F15: 437.5 | G15: =F15-E15 -> #REF! | I15: 1(1h-FR) +1 (engl) | J15: 2(lab engl) + 5 (sem Engl) + 3 (sem FR) | K15: suplim 1H(curs)+1 sg fr+1sg engl
D16: ST APLICATE | E16: =('Stat functii'!#REF!+'Stat functii'!S39)*28 -> #REF! | F16: 154 | G16: =F16-E16 -> #REF! | I16: 1 | J16: 10
D17: FAIMA | E17: =('Stat functii'!#REF!+'Stat functii'!#REF!)*28 -> #REF! | F17: 336 | G17: =F17-E17 -> #REF! | I17: 1 | J17: 20
D18: FIM | E18: =('Stat functii'!#REF!+'Stat functii'!#REF!+'Stat functii'!S23+'Stat functii'!#REF!+'Stat functii'!#REF!+'Stat functii'!#REF!+'Stat functii'!#REF!+'Stat functii'!S33+'Stat functii'!#REF!+'Stat functii'!#REF!+'Stat functii'!#REF!+'Stat functii'!#REF!+'Stat functii'!S43)*28 -> #REF! | F18: 988.68 | G18: =F18-E18 -> #REF!
E19: =SUM(E5:E18) -> #REF!
F20: =SUM(F5:F19) -> 7386.68
